BEGIN:VCALENDAR
VERSION:2.0
PRODID:-//Washington State Coalition Against Domestic Violence (WSCADV) - ECPv5.10.0//NONSGML v1.0//EN
CALSCALE:GREGORIAN
METHOD:PUBLISH
X-WR-CALNAME:Washington State Coalition Against Domestic Violence (WSCADV)
X-ORIGINAL-URL:https://wscadv.org
X-WR-CALDESC:Events for Washington State Coalition Against Domestic Violence (WSCADV)
BEGIN:VTIMEZONE
TZID:America/Vancouver
BEGIN:DAYLIGHT
TZOFFSETFROM:-0800
TZOFFSETTO:-0700
TZNAME:PDT
DTSTART:20210314T100000
END:DAYLIGHT
BEGIN:STANDARD
TZOFFSETFROM:-0700
TZOFFSETTO:-0800
TZNAME:PST
DTSTART:20211107T090000
END:STANDARD
BEGIN:DAYLIGHT
TZOFFSETFROM:-0800
TZOFFSETTO:-0700
TZNAME:PDT
DTSTART:20220313T100000
END:DAYLIGHT
BEGIN:STANDARD
TZOFFSETFROM:-0700
TZOFFSETTO:-0800
TZNAME:PST
DTSTART:20221106T090000
END:STANDARD
END:VTIMEZONE
BEGIN:VEVENT
DTSTART;TZID=America/Vancouver:20211116T100000
DTEND;TZID=America/Vancouver:20211116T120000
DTSTAMP:20211111T172503
CREATED:20210825T172652Z
LAST-MODIFIED:20210825T172654Z
UID:8409-1637056800-1637064000@wscadv.org
SUMMARY:Advocacy for Rookies: Fall 2021 Follow Up
DESCRIPTION:Advocacy for Rookies is an in-depth\, interactive training for domestic violence advocates\, with facilitators Heather Wehr and Jake Fawcett. The training will take place over four sessions\, plus a follow up. \n\n\n\nSession 1: Tuesday\, 10/5/21\, 9am-12pm \n\n\n\nSession 2: Thursday\, 10/7/21\, 9am-12pm \n\n\n\nSession 3: Tuesday\, 10/12/21\, 9am-12pm \n\n\n\nSession 4: Thursday\, 10/14/21\, 9am-12pm \n\n\n\nFollow Up Session: Thursday\, 11/16/21\, 10am-12pm \n\n\n\nWhether you volunteer or are paid\, you work in a shelter or a community office\, you do system-based advocacy or community organizing for prevention\, if you are new to this work\, this training is for you. \n\n\n\nWSCADV Member Programs and Associates can register 2 participants for free using their promo code.
URL:https://wscadv.org/events/advocacy-for-rookies-fall-2021-follow-up/
CATEGORIES:Webinars
END:VEVENT
BEGIN:VEVENT
DTSTART;TZID=America/Vancouver:20211118T100000
DTEND;TZID=America/Vancouver:20211118T120000
DTSTAMP:20211111T172503
CREATED:20210826T213518Z
LAST-MODIFIED:20210826T213520Z
UID:8412-1637229600-1637236800@wscadv.org
SUMMARY:MoneyTalks
DESCRIPTION:Join us for MoneyTalks! A webinar series to promote economic justice. MoneyTalks will take on topics that will help you understand how economics affect survivors of domestic violence and provide a place to convene with other advocates to exchange good ideas. If you’ve got something to say about money and domestic violence\, this is the place for you.     \n\n\n\nNote: The last date to request language interpretation for this webinar is November 4. We are not able to guarantee interpreters for any registrants that come in after that date. This meeting will have auto-generated captions. \n\n\n\nWe prioritize registration for staff of our member programs and our colleagues in Washington state. If you are registering for this webinar from a non-member or out of state program\, please know that we may not be able to guarantee your space.
URL:https://wscadv.org/events/moneytalks-11/
CATEGORIES:Webinars
END:VEVENT
BEGIN:VEVENT
DTSTART;TZID=America/Vancouver:20211130T120000
DTEND;TZID=America/Vancouver:20211130T130000
DTSTAMP:20211111T172503
CREATED:20210709T171638Z
LAST-MODIFIED:20211025T204958Z
UID:8237-1638273600-1638277200@wscadv.org
SUMMARY:WCSAP & WSCADV Bite-Sized Prevention Series: Second Course
DESCRIPTION:Join WCSAP and WSCADV for lunch bunch get-togethers. Our new lunch-time webinar series\, Bite-sized Prevention\, will have four courses throughout the year. For each course (webinar)\, you can expect some tasty prevention treats focused on root causes\, shifting culture\, building skills\, and promoting thriving communities – what it takes to prevent domestic and sexual violence in your community. \n\n\n\nSo\, pack your lunch and unpack morsels of prevention during this webinar series throughout the year. We will be so happy to have you part of our lunch bunch!
URL:https://wscadv.org/events/wcsap-wscadv-bite-sized-prevention-series-2/
CATEGORIES:Webinars
END:VEVENT
BEGIN:VEVENT
DTSTART;TZID=America/Vancouver:20211207T140000
DTEND;TZID=America/Vancouver:20211207T153000
DTSTAMP:20211111T172503
CREATED:20211021T185940Z
LAST-MODIFIED:20211021T185941Z
UID:8534-1638885600-1638891000@wscadv.org
SUMMARY:Laying a Record for Appeal
DESCRIPTION:Join us for a webinar with Evangeline Stratton from the Family Violence Appellate Project (FVAP) on how to support survivors preparing for trial and laying a record for appeal. \n\n\n\nFVAP is dedicated to helping domestic violence survivors and their children appeal dangerous trial court decisions on their behalf\, for free\, and serves California and Washington state. They help survivors of abuse get the safety and justice they deserve. Learn more on their website.
URL:https://wscadv.org/events/laying-a-record-for-appeal/
CATEGORIES:Webinars
END:VEVENT
BEGIN:VEVENT
DTSTART;TZID=America/Vancouver:20211208T093000
DTEND;TZID=America/Vancouver:20211208T120000
DTSTAMP:20211111T172503
CREATED:20211028T204408Z
LAST-MODIFIED:20211028T204410Z
UID:8545-1638955800-1638964800@wscadv.org
SUMMARY:Fiscal Management in the COVID-19 Era
DESCRIPTION:This webinar will cover planning\, accounting\, and compliance challenges of integrating CARES\, ARPA\, and anticipated Reconciliation measure funding into operating budgets\, cost allocation plans\, and reporting. \n\n\n\nThis webinar is presented by WSCADV and WCSAP in collaboration. \n\n\n\nWCSAP will make every effort to fulfill accessibility requests\, but may not be able to make arrangements with interpreters less than 3 weeks before the event.
URL:https://wscadv.org/events/fiscal-management-in-the-covid-19-era/
CATEGORIES:Webinars
END:VEVENT
BEGIN:VEVENT
DTSTART;TZID=America/Vancouver:20211210T100000
DTEND;TZID=America/Vancouver:20211210T113000
DTSTAMP:20211111T172503
CREATED:20211025T205225Z
LAST-MODIFIED:20211025T205228Z
UID:8538-1639130400-1639135800@wscadv.org
SUMMARY:Quarterly Legal Advocate Connection Call
DESCRIPTION:Join us for our quarterly connection call to connect with other legal advocates and discuss how we can best support survivors and sustain our advocacy. This call we will spend time brainstorming solutions to family law issues facing survivors. \n\n\n\nNote: The last date to request language interpretation for this webinar is November 26\, 2021 . We are not able to guarantee interpreters for any registrants that come in after that date. This meeting will have auto-generated captions. \n\n\n\nWe prioritize registration for staff of our member programs and our colleagues in Washington state. If you are registering for this webinar from a non-member or out of state program\, please know that we may not be able to guarantee your space.
URL:https://wscadv.org/events/quarterly-legal-advocate-connection-call/
CATEGORIES:Webinars
END:VEVENT
BEGIN:VEVENT
DTSTART;TZID=America/Vancouver:20220119T100000
DTEND;TZID=America/Vancouver:20220119T160000
DTSTAMP:20211111T172503
CREATED:20211109T194633Z
LAST-MODIFIED:20211109T194635Z
UID:8588-1642586400-1642608000@wscadv.org
SUMMARY:WSCADV & WCSAP Prevention Retreat (Day 1)
DESCRIPTION:The virtual Prevention Retreat is a collaborative event from the Washington State Coalition Against Domestic Violence (WSCADV) and the Washington Coalition of Sexual Assault Programs (WCSAP). \n\n\n\nWe will explore shifting culture and practices through a fun variety of content including keynote speakers\, to engage in healing & movement practices\, asynchronous learning\, practicing self-care\, skill-building workshops\, and discussion group time for connecting with others. All participants will receive a care/learning package. \n\n\n\nAll sessions will have Spanish and ASL interpretation as well as automatic closed captions. Please let us know in your registration if you will need interpretation services! Space is limited. Priority registration is for WSCADV and WCSAP Member Programs and Associates. 
URL:https://wscadv.org/events/wscadv-wcsap-prevention-retreat-day-1/
CATEGORIES:Webinars
END:VEVENT
BEGIN:VEVENT
DTSTART;TZID=America/Vancouver:20220121T100000
DTEND;TZID=America/Vancouver:20220121T160000
DTSTAMP:20211111T172503
CREATED:20211109T194758Z
LAST-MODIFIED:20211109T194759Z
UID:8591-1642759200-1642780800@wscadv.org
SUMMARY:WSCADV & WCSAP Prevention Retreat (Day 2)
DESCRIPTION:The virtual Prevention Retreat is a collaborative event from the Washington State Coalition Against Domestic Violence (WSCADV) and the Washington Coalition of Sexual Assault Programs (WCSAP). \n\n\n\nWe will explore shifting culture and practices through a fun variety of content including keynote speakers\, to engage in healing & movement practices\, asynchronous learning\, practicing self-care\, skill-building workshops\, and discussion group time for connecting with others. All participants will receive a care/learning package. \n\n\n\nAll sessions will have Spanish and ASL interpretation as well as automatic closed captions. Please let us know in your registration if you will need interpretation services! Space is limited. Priority registration is for WSCADV and WCSAP Member Programs and Associates. 
URL:https://wscadv.org/events/wscadv-wcsap-prevention-retreat-day-2/
CATEGORIES:Webinars
END:VEVENT
BEGIN:VEVENT
DTSTART;TZID=America/Vancouver:20220201T120000
DTEND;TZID=America/Vancouver:20220201T130000
DTSTAMP:20211111T172503
CREATED:20210709T172103Z
LAST-MODIFIED:20210709T172200Z
UID:8240-1643716800-1643720400@wscadv.org
SUMMARY:WCSAP & WSCADV Bite-Sized Prevention Series: Third Course
DESCRIPTION:Join WCSAP and WSCADV for lunch bunch get-togethers. Our new lunch-time webinar series\, Bite-sized Prevention\, will have four courses throughout the year. For each course (webinar)\, you can expect some tasty prevention treats focused on root causes\, shifting culture\, building skills\, and promoting thriving communities – what it takes to prevent domestic and sexual violence in your community.  \n\n\n\nSo\, pack your lunch and unpack morsels of prevention during this webinar series throughout the year. We will be so happy to have you part of our lunch bunch!
URL:https://wscadv.org/events/wcsap-wscadv-bite-sized-prevention-series-course-3/
CATEGORIES:Webinars
END:VEVENT
BEGIN:VEVENT
DTSTART;TZID=America/Vancouver:20220503T120000
DTEND;TZID=America/Vancouver:20220503T130000
DTSTAMP:20211111T172503
CREATED:20210709T172402Z
LAST-MODIFIED:20210709T172438Z
UID:8241-1651579200-1651582800@wscadv.org
SUMMARY:WCSAP & WSCADV Bite-Sized Prevention Series: Fourth Course
DESCRIPTION:Join WCSAP and WSCADV for lunch bunch get-togethers. Our new lunch-time webinar series\, Bite-sized Prevention\, will have four courses throughout the year. For each course (webinar)\, you can expect some tasty prevention treats focused on root causes\, shifting culture\, building skills\, and promoting thriving communities – what it takes to prevent domestic and sexual violence in your community. \n\n\n\nSo\, pack your lunch and unpack morsels of prevention during this webinar series throughout the year. We will be so happy to have you part of our lunch bunch!
URL:https://wscadv.org/events/wcsap-wscadv-bite-sized-prevention-series-fourth-course/
CATEGORIES:Webinars
END:VEVENT
END:VCALENDAR