BEGIN:VCALENDAR
VERSION:2.0
PRODID:-//Washington State Coalition Against Domestic Violence (WSCADV) - ECPv5.7.0//NONSGML v1.0//EN
CALSCALE:GREGORIAN
METHOD:PUBLISH
X-WR-CALNAME:Washington State Coalition Against Domestic Violence (WSCADV)
X-ORIGINAL-URL:https://wscadv.org
X-WR-CALDESC:Events for Washington State Coalition Against Domestic Violence (WSCADV)
BEGIN:VTIMEZONE
TZID:America/Vancouver
BEGIN:DAYLIGHT
TZOFFSETFROM:-0800
TZOFFSETTO:-0700
TZNAME:PDT
DTSTART:20210314T100000
END:DAYLIGHT
BEGIN:STANDARD
TZOFFSETFROM:-0700
TZOFFSETTO:-0800
TZNAME:PST
DTSTART:20211107T090000
END:STANDARD
END:VTIMEZONE
BEGIN:VEVENT
DTSTART;TZID=America/Vancouver:20210608T090000
DTEND;TZID=America/Vancouver:20210609T120000
DTSTAMP:20210605T145226
CREATED:20210421T231229Z
LAST-MODIFIED:20210421T231230Z
UID:7991-1623142800-1623240000@wscadv.org
SUMMARY:Housing Justice Summit: Access + Advocacy + Resources
DESCRIPTION:Housing is a human right! Yet\, how can we advocate for survivors in their search for safe and stable housing\, much less implement a DV Housing First approach when there are no affordable housing options? And for survivors from BIPOC communities\, the barriers to housing\, based in a long history of deep-rooted discrimination\, are even higher. \n\n\n\nJoin WSCADV’s Linda Olsen and Angie Pacheco\, Executive Director of Domestic Violence Services of Benton-Franklin\, as we \n\n\n\nName the root causes of housing discrimination;Deepen advocacy skills for housing search and retention; andIdentify a range of housing approaches and resources.\n\n\n\n This will be a peer learning opportunity\, so come with knowledge to share. We will also have guests who are experts in their areas of housing to augment Angie’s extensive knowledge and experience. This Summit will earn attendees 14 training hours\, 10 hours of live training\, 4 hours of self-study. \n\n\n\nJoin us for this two-day Summit \n\n\n\nTuesday\, June 8\, 9 AM – 5 PM \n\n\n\nWednesday\, June 9\, 9 AM – 12 PM
URL:https://wscadv.org/events/housing-justice-summit-access-advocacy-resources/
END:VEVENT
BEGIN:VEVENT
DTSTART;TZID=America/Vancouver:20210609T130000
DTEND;TZID=America/Vancouver:20210609T150000
DTSTAMP:20210605T145226
CREATED:20210226T191341Z
LAST-MODIFIED:20210519T235352Z
UID:7648-1623243600-1623250800@wscadv.org
SUMMARY:Defending Criminalized Immigrant Survivors
DESCRIPTION:This workshop will feature amazing Survived and Punished organizers of the #FreeLiyah Campaign\, Liyah Birru and Neda Said. \n\n\n\nThis workshop will cover:• domestic violence 101• how immigrant and refugee survivors of domestic violence and sexual assault are punished by the criminal legal and deportation systems for surviving violence• how you can take action to #FreeSurvivors and #FreeThemAll
URL:https://wscadv.org/events/defending-criminalized-immigrant-survivors/
CATEGORIES:Webinars
END:VEVENT
END:VCALENDAR